BEGIN:VCALENDAR
VERSION:2.0
PRODID:-//casakc.org//NONSGML kigkonsult.se iCalcreator 2.30.10//
CALSCALE:GREGORIAN
METHOD:PUBLISH
UID:108eb5fd-8e68-4149-88fa-fbc6c83d4534
X-WR-CALDESC:Carnival for CASA is our annual day of fun for CASA kids at Fa
 ulkner's Ranch\, and a fundraiser for Jackson County CASA. This event is p
 owered by Volunteers who help with Carnival activities like face painting\
 , hair painting\, family check-in\, LEGO tent\, and photo booth. Volunteer
 s receive a t-shirt and lunch at Faulkner's Ranch. Please sign up at the l
 ink below. Thank you for volunteering!
X-WR-RELCALID:ba99b82e1da5953caddea58280f96172
X-WR-TIMEZONE:America/Chicago
BEGIN:VTIMEZONE
TZID:America/Chicago
BEGIN:STANDARD
TZNAME:CST
DTSTART:20231105T020000
TZOFFSETFROM:-0500
TZOFFSETTO:-0600
RDATE:20241103T020000
RDATE:20251102T020000
END:STANDARD
BEGIN:DAYLIGHT
TZNAME:CDT
DTSTART:20240310T020000
TZOFFSETFROM:-0600
TZOFFSETTO:-0500
RDATE:20250309T020000
END:DAYLIGHT
END:VTIMEZONE
BEGIN:VEVENT
UID:f1e380f5-2993-48f4-9427-e3122dc7d7bd
DTSTAMP:20260422T042450Z
DESCRIPTION:Carnival for CASA is our annual day of fun for CASA kids at Fau
 lkner's Ranch\, and a fundraiser for Jackson County CASA. This event is po
 wered by Volunteers who help with Carnival activities like face painting\,
  hair painting\, family check-in\, LEGO tent\, and photo booth. Volunteers
  receive a t-shirt and lunch at Faulkner's Ranch. Please sign up at the li
 nk below. Thank you for volunteering!
DTSTART;TZID=America/Chicago:20240630T120000
DTEND;TZID=America/Chicago:20240630T160000
LOCATION:Faulkner's Ranch\, 10600 Raytown Road\, Kansas City\, MO 64314 US
SUMMARY:Carnival for CASA
END:VEVENT
END:VCALENDAR
