BEGIN:VCALENDAR
VERSION:2.0
PRODID:-//casakc.org//NONSGML kigkonsult.se iCalcreator 2.30.10//
CALSCALE:GREGORIAN
METHOD:PUBLISH
UID:2fe3f49c-5556-42f1-9175-c124970c9286
X-WR-CALDESC:
X-WR-RELCALID:56591f4c232cf2a73ca4c92d16141091
X-WR-TIMEZONE:America/Chicago
BEGIN:VTIMEZONE
TZID:America/Chicago
BEGIN:STANDARD
TZNAME:CST
DTSTART:20231105T020000
TZOFFSETFROM:-0500
TZOFFSETTO:-0600
RDATE:20241103T020000
RDATE:20251102T020000
END:STANDARD
BEGIN:DAYLIGHT
TZNAME:CDT
DTSTART:20240310T020000
TZOFFSETFROM:-0600
TZOFFSETTO:-0500
RDATE:20250309T020000
END:DAYLIGHT
END:VTIMEZONE
BEGIN:VEVENT
UID:0f1011ba-4167-4d82-83d7-4cfbec4f17af
DTSTAMP:20260422T120248Z
DESCRIPTION:
DTSTART;TZID=America/Chicago:20240726T120000
DTEND;TZID=America/Chicago:20240726T130000
LOCATION:
SUMMARY:Board Meeting
END:VEVENT
END:VCALENDAR
