BEGIN:VCALENDAR
VERSION:2.0
PRODID:-//casakc.org//NONSGML kigkonsult.se iCalcreator 2.30.10//
CALSCALE:GREGORIAN
METHOD:PUBLISH
UID:8963d18f-9c4e-4084-ac97-e5693a85b06f
X-WR-CALDESC:
X-WR-RELCALID:14828ae8f9004caa95f3b1fd44283a28
X-WR-TIMEZONE:America/Chicago
BEGIN:VTIMEZONE
TZID:America/Chicago
BEGIN:STANDARD
TZNAME:CST
DTSTART:20231105T020000
TZOFFSETFROM:-0500
TZOFFSETTO:-0600
RDATE:20241103T020000
RDATE:20251102T020000
END:STANDARD
BEGIN:DAYLIGHT
TZNAME:CDT
DTSTART:20240310T020000
TZOFFSETFROM:-0600
TZOFFSETTO:-0500
RDATE:20250309T020000
END:DAYLIGHT
END:VTIMEZONE
BEGIN:VEVENT
UID:fad13e33-f035-43d7-9065-f9dc3ecc1492
DTSTAMP:20260422T134827Z
DESCRIPTION:
DTSTART;TZID=America/Chicago:20240823T120000
DTEND;TZID=America/Chicago:20240823T130000
LOCATION:
SUMMARY:Board Meeting
END:VEVENT
END:VCALENDAR
