BEGIN:VCALENDAR
VERSION:2.0
PRODID:-//casakc.org//NONSGML kigkonsult.se iCalcreator 2.30.10//
CALSCALE:GREGORIAN
METHOD:PUBLISH
UID:c2bcd348-0079-432a-bb61-749af5d0e9e9
X-WR-CALDESC:Registration is open for Jackson County CASA's Guardian ad Lit
 em CLE\, hosted in partnership with UMKC. This CLE is virtual and is free 
 for all CASA Volunteers and CASA Pro Bono Attorneys. Topics covered in thi
 s training include Safe Babies Court\, Child-Parent Psychotherapy (CPP)\, 
 permanency for infants\, using relationships to heal\, advocating for infa
 nts as a Guardian ad Litem\, and one mother's lived experience in Family C
 ourt. Although this is a legal training\, the information will be benefici
 al to all CASA Volunteers! CASA Volunteers may register as a 'Non-Attorney
  CASA Volunteer.' Pro Bono Attorneys may register as 'attorneys who commit
  to one pro bono case.'
X-WR-RELCALID:b4d5ae04187c5b13902ef9bfd78ec20a
X-WR-TIMEZONE:America/Chicago
BEGIN:VTIMEZONE
TZID:America/Chicago
BEGIN:STANDARD
TZNAME:CST
DTSTART:20231105T020000
TZOFFSETFROM:-0500
TZOFFSETTO:-0600
RDATE:20241103T020000
RDATE:20251102T020000
END:STANDARD
BEGIN:DAYLIGHT
TZNAME:CDT
DTSTART:20240310T020000
TZOFFSETFROM:-0600
TZOFFSETTO:-0500
RDATE:20250309T020000
RDATE:20260308T020000
END:DAYLIGHT
END:VTIMEZONE
BEGIN:VEVENT
UID:af3ffb05-0dce-4734-be44-a4d014c1f685
DTSTAMP:20260422T151139Z
DESCRIPTION:Registration is open for Jackson County CASA's Guardian ad Lite
 m CLE\, hosted in partnership with UMKC. This CLE is virtual and is free f
 or all CASA Volunteers and CASA Pro Bono Attorneys. Topics covered in this
  training include Safe Babies Court\, Child-Parent Psychotherapy (CPP)\, p
 ermanency for infants\, using relationships to heal\, advocating for infan
 ts as a Guardian ad Litem\, and one mother's lived experience in Family Co
 urt. Although this is a legal training\, the information will be beneficia
 l to all CASA Volunteers! CASA Volunteers may register as a 'Non-Attorney 
 CASA Volunteer.' Pro Bono Attorneys may register as 'attorneys who commit 
 to one pro bono case.'
DTSTART;TZID=America/Chicago:20240913T083000
DTEND;TZID=America/Chicago:20240913T165000
LOCATION:https://umkclawcle.org/user/login?destination=civicrm/event/regist
 er%3Fid%3D483%26reset%3D1
SUMMARY:Continuing Legal Education (CLE): Infant Mental Health
END:VEVENT
END:VCALENDAR
