BEGIN:VCALENDAR
VERSION:2.0
PRODID:-//casakc.org//NONSGML kigkonsult.se iCalcreator 2.30.10//
CALSCALE:GREGORIAN
METHOD:PUBLISH
UID:3cbeab98-e7c0-4f41-a8a1-c21ff5e36cf1
X-WR-CALDESC:Mark your calendars for a fun Taco Tuesday happy hour on Tuesd
 ay\, September 24\, from 5 - 7 p.m.! Invite friends or family to join you 
 at the CASA office for tacos\, beverages\, and the opportunity to connect 
 with other CASA Volunteers and staff. Please RSVP in advance so we can pla
 n accordingly. We hope to see you there!
X-WR-RELCALID:59d5acae8fc5e12eb640f0d498fb7ea5
X-WR-TIMEZONE:America/Chicago
BEGIN:VTIMEZONE
TZID:America/Chicago
BEGIN:STANDARD
TZNAME:CST
DTSTART:20231105T020000
TZOFFSETFROM:-0500
TZOFFSETTO:-0600
RDATE:20241103T020000
RDATE:20251102T020000
END:STANDARD
BEGIN:DAYLIGHT
TZNAME:CDT
DTSTART:20240310T020000
TZOFFSETFROM:-0600
TZOFFSETTO:-0500
RDATE:20250309T020000
RDATE:20260308T020000
END:DAYLIGHT
END:VTIMEZONE
BEGIN:VEVENT
UID:b611cb05-4746-44da-8c77-45911333ed16
DTSTAMP:20260422T150750Z
DESCRIPTION:Mark your calendars for a fun Taco Tuesday happy hour on Tuesda
 y\, September 24\, from 5 - 7 p.m.! Invite friends or family to join you a
 t the CASA office for tacos\, beverages\, and the opportunity to connect w
 ith other CASA Volunteers and staff. Please RSVP in advance so we can plan
  accordingly. We hope to see you there!
DTSTART;TZID=America/Chicago:20240924T170000
DTEND;TZID=America/Chicago:20240924T190000
LOCATION:2544 Holmes\, Kansas City\, MO 64108 US
SUMMARY:Taco Tuesday Happy Hour
END:VEVENT
END:VCALENDAR
