BEGIN:VCALENDAR
VERSION:2.0
PRODID:-//casakc.org//NONSGML kigkonsult.se iCalcreator 2.30.10//
CALSCALE:GREGORIAN
METHOD:PUBLISH
UID:85a6a188-9a9b-4889-baaa-546cfdc8a005
X-WR-CALDESC:Join us at Hamburger Mary's (3718 Broadway Blvd. #110\, KCMO 6
 4111) on Wednesday\, September 25\, for a fun night of charity bingo from 
 7 - 8:30 p.m.! This is Bingo for adults\, so leave the kids with a sitter 
 and arrive early (we recommend 6 -6:30 p.m.) so you can enjoy some Macho N
 achos with an adult beverage before the festivities begin. Better yet\, ma
 ke your reservation online or calling (816) 842-1919 so your whole party c
 an sit together. Bring cash for your Bingo cards ($10 gets you 10 rounds o
 f Bingo) and 50/50 raffle tickets. Win fabulous prizes! All the money rais
 ed from the sale of Bingo cards directly supports Jackson County CASA. We 
 look forward to seeing you there!
X-WR-RELCALID:21f1602d1407956eeaaca649825da0d5
X-WR-TIMEZONE:America/Chicago
BEGIN:VTIMEZONE
TZID:America/Chicago
BEGIN:STANDARD
TZNAME:CST
DTSTART:20231105T020000
TZOFFSETFROM:-0500
TZOFFSETTO:-0600
RDATE:20241103T020000
RDATE:20251102T020000
END:STANDARD
BEGIN:DAYLIGHT
TZNAME:CDT
DTSTART:20240310T020000
TZOFFSETFROM:-0600
TZOFFSETTO:-0500
RDATE:20250309T020000
RDATE:20260308T020000
END:DAYLIGHT
END:VTIMEZONE
BEGIN:VEVENT
UID:9c723609-6cca-4d03-81c6-40827be3da9b
DTSTAMP:20260422T191335Z
DESCRIPTION:Join us at Hamburger Mary's (3718 Broadway Blvd. #110\, KCMO 64
 111) on Wednesday\, September 25\, for a fun night of charity bingo from 7
  - 8:30 p.m.! This is Bingo for adults\, so leave the kids with a sitter a
 nd arrive early (we recommend 6 -6:30 p.m.) so you can enjoy some Macho Na
 chos with an adult beverage before the festivities begin. Better yet\, mak
 e your reservation online or calling (816) 842-1919 so your whole party ca
 n sit together. Bring cash for your Bingo cards ($10 gets you 10 rounds of
  Bingo) and 50/50 raffle tickets. Win fabulous prizes! All the money raise
 d from the sale of Bingo cards directly supports Jackson County CASA. We l
 ook forward to seeing you there!
DTSTART;TZID=America/Chicago:20240925T190000
DTEND;TZID=America/Chicago:20240925T203000
LOCATION:3718 Broadway Blvd. \, #110\, Kansas City\, MO 64111 US
SUMMARY:Hamburger Mary's Charity Bingo Night
END:VEVENT
END:VCALENDAR
