BEGIN:VCALENDAR
VERSION:2.0
PRODID:-//casakc.org//NONSGML kigkonsult.se iCalcreator 2.30.10//
CALSCALE:GREGORIAN
METHOD:PUBLISH
UID:e9ab2633-6ac1-4b9b-a375-e4cb6b40509b
X-WR-CALDESC:As part of United Way of Greater Kansas City's CommUNITY Fest\
 , they are hosting an evening of networking and discussion centered around
  a self-guided simulation reflecting the issues our community is facing. T
 he event will culminate with a panel of community leaders reflecting on th
 e solutions organizations are implementing every day to make change. The p
 anel will feature Dan Cranshaw\, Executive Director of the KC Health Colla
 borative\, Geoff Jolley\, Executive Director of LISC Greater Kansas City\,
  and Dr. Amanda Vega-Mavec\, Executive Director of Start at Zero.
X-WR-RELCALID:13630d9ee7e229e18322868da37fb7e8
X-WR-TIMEZONE:America/Chicago
BEGIN:VTIMEZONE
TZID:America/Chicago
BEGIN:STANDARD
TZNAME:CST
DTSTART:20231105T020000
TZOFFSETFROM:-0500
TZOFFSETTO:-0600
RDATE:20241103T020000
RDATE:20251102T020000
END:STANDARD
BEGIN:DAYLIGHT
TZNAME:CDT
DTSTART:20240310T020000
TZOFFSETFROM:-0600
TZOFFSETTO:-0500
RDATE:20250309T020000
RDATE:20260308T020000
END:DAYLIGHT
END:VTIMEZONE
BEGIN:VEVENT
UID:d54a2c1b-2449-4c6e-86cf-ed3958fc345e
DTSTAMP:20260422T151158Z
DESCRIPTION:As part of United Way of Greater Kansas City's CommUNITY Fest\,
  they are hosting an evening of networking and discussion centered around 
 a self-guided simulation reflecting the issues our community is facing. Th
 e event will culminate with a panel of community leaders reflecting on the
  solutions organizations are implementing every day to make change. The pa
 nel will feature Dan Cranshaw\, Executive Director of the KC Health Collab
 orative\, Geoff Jolley\, Executive Director of LISC Greater Kansas City\, 
 and Dr. Amanda Vega-Mavec\, Executive Director of Start at Zero.
DTSTART;TZID=America/Chicago:20240926T163000
DTEND;TZID=America/Chicago:20240926T193000
LOCATION:4801 Main St\, Kansas City\, MO 64112 US
SUMMARY:From Cradle to Grave: Breaking the Cycle of Intergenerational Pover
 ty (United Way of Greater KC CommUNITY Fest)
END:VEVENT
END:VCALENDAR
