BEGIN:VCALENDAR
VERSION:2.0
PRODID:-//casakc.org//NONSGML kigkonsult.se iCalcreator 2.30.10//
CALSCALE:GREGORIAN
METHOD:PUBLISH
UID:91c27b87-f287-4382-b258-719a3c85b4a6
X-WR-CALDESC:Nuts & Bolts trainings are a great way to learn more about top
 ics that might be relevant to your CASA case directly from staff. This Nut
 s & Bolts training will be led by Director of Legal Services Katie Wiehl. 
 It will cover hearings\, evidence\, termination of parental rights\, and p
 ermanency.
X-WR-RELCALID:bef3dfc1a3f59d11e8c8edda3808a70d
X-WR-TIMEZONE:America/Chicago
BEGIN:VTIMEZONE
TZID:America/Chicago
BEGIN:STANDARD
TZNAME:CST
DTSTART:20231105T020000
TZOFFSETFROM:-0500
TZOFFSETTO:-0600
RDATE:20241103T020000
RDATE:20251102T020000
END:STANDARD
BEGIN:DAYLIGHT
TZNAME:CDT
DTSTART:20240310T020000
TZOFFSETFROM:-0600
TZOFFSETTO:-0500
RDATE:20250309T020000
RDATE:20260308T020000
END:DAYLIGHT
END:VTIMEZONE
BEGIN:VEVENT
UID:20734287-3e5c-4ed1-8d8b-b91958adeac5
DTSTAMP:20260424T082240Z
DESCRIPTION:Nuts & Bolts trainings are a great way to learn more about topi
 cs that might be relevant to your CASA case directly from staff. This Nuts
  & Bolts training will be led by Director of Legal Services Katie Wiehl. I
 t will cover hearings\, evidence\, termination of parental rights\, and pe
 rmanency.
DTSTART;TZID=America/Chicago:20241022T120000
DTEND;TZID=America/Chicago:20241022T130000
LOCATION:2544 Holmes\, Kansas City\, MO 64108 US
SUMMARY:Nuts & Bolts Training: Hearings & Permanency
END:VEVENT
END:VCALENDAR
