BEGIN:VCALENDAR
VERSION:2.0
PRODID:-//casakc.org//NONSGML kigkonsult.se iCalcreator 2.30.10//
CALSCALE:GREGORIAN
METHOD:PUBLISH
UID:e36ae87a-480f-4324-812e-5d4f589f762f
X-WR-CALDESC:Nuts & Bolts trainings are a great way to learn more about top
 ics that might be relevant to your CASA case directly from staff. This Nut
 s & Bolts training will focus on self-care and boundaries as a CASA Volunt
 eer. This training will be held virtually via Microsoft Teams.
X-WR-RELCALID:08bd18cb9f3dcc24a7d645f1fa54a3c6
X-WR-TIMEZONE:America/Chicago
BEGIN:VTIMEZONE
TZID:America/Chicago
BEGIN:STANDARD
TZNAME:CST
DTSTART:20241103T020000
TZOFFSETFROM:-0500
TZOFFSETTO:-0600
RDATE:20251102T020000
END:STANDARD
BEGIN:DAYLIGHT
TZNAME:CDT
DTSTART:20240310T020000
TZOFFSETFROM:-0600
TZOFFSETTO:-0500
RDATE:20250309T020000
RDATE:20260308T020000
END:DAYLIGHT
END:VTIMEZONE
BEGIN:VEVENT
UID:d8970a8d-f8dd-4015-a2d7-f0f16bd6750e
DTSTAMP:20260424T111927Z
DESCRIPTION:Nuts & Bolts trainings are a great way to learn more about topi
 cs that might be relevant to your CASA case directly from staff. This Nuts
  & Bolts training will focus on self-care and boundaries as a CASA Volunte
 er. This training will be held virtually via Microsoft Teams.
DTSTART;TZID=America/Chicago:20241209T120000
DTEND;TZID=America/Chicago:20241209T130000
LOCATION:
SUMMARY:Nuts & Bolts Training: Self-Care & Boundaries
END:VEVENT
END:VCALENDAR
